BEGIN:VCALENDAR
VERSION:2.0
PRODID:-//ExhibitionMatches.com//NONSGML v1.0//EN
BEGIN:VEVENT
UID=0069FF1B-92FF-AC99-1EEC5D90026D2846
DTSTAMP=20260421T223104Z
DTSTART;VALUE=DATE:20260425
DTEND;VALUE=DATE:20260426
SUMMARY:2026 Dig deep Freestyle/ Greco  (Eureka)
LOCATION:Eureka High School, 4525 Missouri 109, Eureka, MO, 63025
DESCRIPTION:View full event details: https://wrestlingtournaments.org/view.cfm?ID=107142

URL;VALUE=URI:https://wrestlingtournaments.org/view.cfm?ID=107142
END:VEVENT
END:VCALENDAR