BEGIN:VCALENDAR
VERSION:2.0
PRODID:-//ExhibitionMatches.com//NONSGML v1.0//EN
BEGIN:VEVENT
UID=00BA2D03-9632-8BDE-E29A323DA714B5E4
DTSTAMP=20260421T223950Z
DTSTART;VALUE=DATE:20260516
DTEND;VALUE=DATE:20260517
SUMMARY:MSHSAA Boys Class 4 District Testing
LOCATION:Lafayette High School, 17050 Clayton Road, Wildwood, MO, 63011
DESCRIPTION:View full event details: https://wrestlingtournaments.org/view.cfm?ID=107002

URL;VALUE=URI:https://wrestlingtournaments.org/view.cfm?ID=107002
END:VEVENT
END:VCALENDAR